BEGIN:VCALENDAR
VERSION:2.0
PRODID:-//France en Corée - Culture - ECPv6.15.15//NONSGML v1.0//EN
CALSCALE:GREGORIAN
METHOD:PUBLISH
X-WR-CALNAME:France en Corée - Culture
X-ORIGINAL-URL:https://kr.ambafrance-culture.org/ko/
X-WR-CALDESC:France en Corée - Culture 이벤트
REFRESH-INTERVAL;VALUE=DURATION:PT1H
X-Robots-Tag:noindex
X-PUBLISHED-TTL:PT1H
BEGIN:VTIMEZONE
TZID:Asia/Seoul
BEGIN:STANDARD
TZOFFSETFROM:+0900
TZOFFSETTO:+0900
TZNAME:KST
DTSTART:20250101T000000
END:STANDARD
END:VTIMEZONE
BEGIN:VEVENT
DTSTART;VALUE=DATE:20260306
DTEND;VALUE=DATE:20260316
DTSTAMP:20260422T011505
CREATED:20260306T070533Z
LAST-MODIFIED:20260306T070600Z
UID:10000147-1772755200-1773619199@kr.ambafrance-culture.org
SUMMARY:World AI Film Festival Seoul (WAIFF)
DESCRIPTION:World AI Film Festival(WAIFF)는 창작 과정에 인공지능을 활용한 시청각 작품을 중심으로 한 국제 영화제입니다. 프랑스에서 시작된 이 페스티벌의 메인 행사인 WAIFF 2026은 2026년 4월 21일과 22일 칸에서 개최될 예정입니다. 영화제는 경쟁 상영\, 컨퍼런스\, 산업 관계자 간의 교류 프로그램 등을 통해 감독\, 프로듀서\, 개발자\, 연구자들을 한자리에 모아\, 예술가와 인공지능 기술의 협업이 만들어내는 새로운 서사 형식을 탐구하는 것을 목표로 합니다. \nWAIFF Seoul은 이 영화제의 아시아 에디션으로\, 2026년 3월 6일부터 7일까지 서울 롯데월드타워에서 개최됩니다. 이 행사는 인공지능 도구를 활용해 제작된 단편영화\, 숏폼 시리즈\, 다양한 콘텐츠를 경쟁 부문으로 선보이며\, 동시에 시청각 산업에서 인공지능이 갖는 창작적·산업적 의미를 논의하는 포럼과 전문가 교류 프로그램을 진행합니다. 한국 에디션의 수상작은 프랑스에서 열리는 본 행사와 연계된 국제 네트워크를 통해 추가적인 주목과 기회를 얻게 됩니다. \nWAIFF Seoul 2026 프로그램 개요 \nWorld AI Film Festival(WAIFF) Seoul 2026은 2026년 3월 6일과 7일 서울 롯데월드타워에서 개최되며\, 일반 관객을 위한 상영 프로그램은 3월 7일부터 15일까지 한국 여러 도시에서 진행될 예정입니다. \n1일차 – 개막식 (2026년 3월 6일)첫째 날은 공식 개막 행사와 시상식이 중심이 됩니다. 프로그램에는 레드카펫 행사\, 시상식\, 예술 공연 등이 포함됩니다. \n2일차 – 산업 프로그램 및 컨퍼런스 (2026년 3월 7일)둘째 날은 시청각 및 기술 산업 종사자들을 위한 프로그램으로 구성됩니다. 주요 일정은 기조 강연\, 라운드테이블\, 기술 시연\, 네트워킹 세션 등입니다. \n주요 논의 주제는 다음과 같습니다. \n\n\n스토리텔링\, VFX\, 가상 제작에서의 인공지능 활용 \n\n\n생성형 AI 기반 제작 워크플로우 \n\n\n인프라와 연산 역량 \n\n\n인공지능 관련 윤리와 공공 정책 \n\n\n이 프로그램들은 롯데월드타워 시네마 슈퍼플렉스 등을 중심으로 진행됩니다. \n3월 7일–15일 – 일반 상영 프로그램서울을 비롯해 경기\, 대전\, 대구\, 부산 등 여러 도시에서 하루 두 차례 일반 상영이 진행될 예정입니다(도시 변동 가능).
URL:https://kr.ambafrance-culture.org/ko/evenement/world-ai-film-festival-seoul-waiff/
LOCATION:롯데월드타워\, 올림픽로 300\, 서울\, 송파구\, Korea\, Republic of
CATEGORIES:영화
ATTACH;FMTTYPE=image/jpeg:https://kr.ambafrance-culture.org/wp-content/uploads/2026/03/WAIFF2026.jpg
GEO:37.512785;127.101701
X-APPLE-STRUCTURED-LOCATION;VALUE=URI;X-ADDRESS=롯데월드타워 올림픽로 300 서울 송파구 Korea Republic of;X-APPLE-RADIUS=500;X-TITLE=올림픽로 300:geo:127.101701,37.512785
END:VEVENT
END:VCALENDAR