BEGIN:VCALENDAR
VERSION:2.0
PRODID:-//France en Corée - Culture - ECPv6.15.15//NONSGML v1.0//EN
CALSCALE:GREGORIAN
METHOD:PUBLISH
X-ORIGINAL-URL:https://kr.ambafrance-culture.org/ko/
X-WR-CALDESC:France en Corée - Culture 이벤트
REFRESH-INTERVAL;VALUE=DURATION:PT1H
X-Robots-Tag:noindex
X-PUBLISHED-TTL:PT1H
BEGIN:VTIMEZONE
TZID:Asia/Seoul
BEGIN:STANDARD
TZOFFSETFROM:+0900
TZOFFSETTO:+0900
TZNAME:KST
DTSTART:20250101T000000
END:STANDARD
END:VTIMEZONE
BEGIN:VEVENT
DTSTART;TZID=Asia/Seoul:20260318T143000
DTEND;TZID=Asia/Seoul:20260318T160000
DTSTAMP:20260422T015259
CREATED:20260306T081302Z
LAST-MODIFIED:20260306T081317Z
UID:10000148-1773844200-1773849600@kr.ambafrance-culture.org
SUMMARY:리틀프린스하우스 개관식
DESCRIPTION:80년 전 프랑스에서 앙투안 드 생텍쥐페리의 이야기 출판으로 시작된 어린 왕자의 여정이\, 프랑스와 대한민국 수교 140주년을 기념하여 감천문화마을에서 계속됩니다. 본 시설은 프랑스 생텍쥐페리 재단의 어린 왕자 IP를 공간으로 구현한 국내 최초의 전시 문화공간으로서\, 3월 18일 수요일 오후에 공식 개관합니다. \n프로그램:• 14:30–15:00 : 공식 세레모니 (장소 : 리틀프린스하우스 앞 행사장)• 15:00–16:00 : 리틀프린스하우스 내부 공식 공개
URL:https://kr.ambafrance-culture.org/ko/evenement/%eb%a6%ac%ed%8b%80%ed%94%84%eb%a6%b0%ec%8a%a4%ed%95%98%ec%9a%b0%ec%8a%a4-%ea%b0%9c%ea%b4%80%ec%8b%9d/
LOCATION:리틀 프린스 하우스\, 감내로 200\, 부산\, 사하구\, 49457\, Korea\, Republic of
CATEGORIES:전시회
ATTACH;FMTTYPE=image/jpeg:https://kr.ambafrance-culture.org/wp-content/uploads/2026/03/PetitPrince032026.jpg
GEO:35.096361;129.009417
X-APPLE-STRUCTURED-LOCATION;VALUE=URI;X-ADDRESS=리틀 프린스 하우스 감내로 200 부산 사하구 49457 Korea Republic of;X-APPLE-RADIUS=500;X-TITLE=감내로 200:geo:129.009417,35.096361
END:VEVENT
END:VCALENDAR