BEGIN:VCALENDAR
VERSION:2.0
PRODID:-//France en Corée - Culture - ECPv6.15.15//NONSGML v1.0//EN
CALSCALE:GREGORIAN
METHOD:PUBLISH
X-ORIGINAL-URL:https://kr.ambafrance-culture.org/ko/
X-WR-CALDESC:France en Corée - Culture 이벤트
REFRESH-INTERVAL;VALUE=DURATION:PT1H
X-Robots-Tag:noindex
X-PUBLISHED-TTL:PT1H
BEGIN:VTIMEZONE
TZID:Asia/Seoul
BEGIN:STANDARD
TZOFFSETFROM:+0900
TZOFFSETTO:+0900
TZNAME:KST
DTSTART:20250101T000000
END:STANDARD
END:VTIMEZONE
BEGIN:VEVENT
DTSTART;TZID=Asia/Seoul:20260307T140000
DTEND;TZID=Asia/Seoul:20260307T160000
DTSTAMP:20260420T053409
CREATED:20260304T114910Z
LAST-MODIFIED:20260304T114932Z
UID:10000093-1772892000-1772899200@kr.ambafrance-culture.org
SUMMARY:콘서트 | 줄리앙 쿠엔틴과 홍승아 연주회
DESCRIPTION:한불 수교 140주년을 맞아 첼리스트 홍승아와 프랑스 피아니스트 줄리앙 쿠엔틴이 예술의전당에서 “결합된 취향들 (Les Goûts-réunis)” 음악회를 선보입니다. \n🎼 프로그램: \n\n프랑수아 쿠프랭 — 다섯 개의 콘서트용 소품\n가브리엘 포레 — 첼로 소나타 제2번 g단조 Op.117\n이고르 스트라빈스키 — 풀치넬라 중 이탈리안 모음곡\n카미유 생상스 — 첼로 소나타 제1번 c단조 Op.32
URL:https://kr.ambafrance-culture.org/ko/evenement/%ec%bd%98%ec%84%9c%ed%8a%b8-%ec%a4%84%eb%a6%ac%ec%95%99-%ec%bf%a0%ec%97%94%ed%8b%b4%ea%b3%bc-%ed%99%8d%ec%8a%b9%ec%95%84-%ec%97%b0%ec%a3%bc%ed%9a%8c/
LOCATION:예술의전당\, 남부순환로 2406\, 서울\, 서초구\, 06757\, Korea\, Republic of
CATEGORIES:대중음악,콘서트
ATTACH;FMTTYPE=image/jpeg:https://kr.ambafrance-culture.org/wp-content/uploads/2026/03/Julien2026.jpg
GEO:37.479469;127.012829
X-APPLE-STRUCTURED-LOCATION;VALUE=URI;X-ADDRESS=예술의전당 남부순환로 2406 서울 서초구 06757 Korea Republic of;X-APPLE-RADIUS=500;X-TITLE=남부순환로 2406:geo:127.012829,37.479469
END:VEVENT
END:VCALENDAR