BEGIN:VCALENDAR
VERSION:2.0
PRODID:-//France en Corée - Culture - ECPv6.15.15//NONSGML v1.0//EN
CALSCALE:GREGORIAN
METHOD:PUBLISH
X-ORIGINAL-URL:https://kr.ambafrance-culture.org/ko/
X-WR-CALDESC:France en Corée - Culture 이벤트
REFRESH-INTERVAL;VALUE=DURATION:PT1H
X-Robots-Tag:noindex
X-PUBLISHED-TTL:PT1H
BEGIN:VTIMEZONE
TZID:Asia/Seoul
BEGIN:STANDARD
TZOFFSETFROM:+0900
TZOFFSETTO:+0900
TZNAME:KST
DTSTART:20250101T000000
END:STANDARD
END:VTIMEZONE
BEGIN:VEVENT
DTSTART;TZID=Asia/Seoul:20260317T170000
DTEND;TZID=Asia/Seoul:20260317T183000
DTSTAMP:20260422T015416
CREATED:20260304T120836Z
LAST-MODIFIED:20260311T075155Z
UID:10000116-1773766800-1773772200@kr.ambafrance-culture.org
SUMMARY:실뱅 테송 작가와의 만남 - 여행문학
DESCRIPTION:제4회 공쿠르문학상-한국의 후원 작가이자 여행작가인 실뱅 테송이 3월 17일 화요일 오후 5시부터 6시 30분까지 이화여자대학교 (국제관\, LG 컨벤션홀)에서 신작 < Les Piliers de la mer\, 바다의 기둥들> (알뱅 미셸\, 2025)을 주제로 여행과 문학에 대한 강연을 합니다.   \n본 행사는 프랑스–한국 수교 140주년 기념 공식 프로그램의 일환으로 진행됩니다. \n  \n작가소개 \n실뱅 테송은 1972년 프랑스 파리에서 태어났으며 지리학을 전공했다. 일찍부터 극한 조건의 여행과 탐험을 일삼았고 두 발로 세상을 살며 다수의 책을 출간했다. \n『노숙 인생』(2009)으로 중편소설 부문 공쿠르 상과 아카데미 프랑세즈 상을\, 『시베리아의 숲에서』(2011)로 에세이 부문 메디치 상을 수상했다. \n2014년 지붕에서 떨어지는 사고로 혼수상태에 빠졌다가 기적적으로 살아나 긴 고통의 시간을 견디며 『검은 길 위에서』를 집필했다. 2018년에는 『호메로스와 함께하는 여름』을 출간하였고 이후 『눈표범』으로 2019년 르노도 상을 수상했다. \n특히 『눈표범』은 수상작 후보의 파이널리스트 명단에 없던 작품이 10월 출간 즉시 후보에 오르며 깜짝 수상하였다는 것이다. 이는 르노도 역사상 처음 있는 일로\, 이 여행기에 대한 관심과 그 가치가 어느 정도인지를 방증한 것이다. 또한 이 책은 2019년 한 해 동안 프랑스에서 가장 많이 팔린 프랑스어 도서로 집계되었다. 이는 같은 해 공쿠르상 수상작인 장폴 뒤부아의 소설과 미셸 우엘벡의 『세로토닌(Sérotonine)』을 앞선 기록이다. 지난해에는 최신작 『바다의 기둥들(Les Piliers de la mer)』을 출간했다. 이 신간은 출간 당시 초판 15만 부가 인쇄되며 그의 스타 작가로서의 위상을 다시 한번 입증한 자연 탐험 철학 에세이다. \n  \n  \n 
URL:https://kr.ambafrance-culture.org/ko/evenement/%ec%8b%a4%eb%b1%85-%ed%85%8c%ec%86%a1-%ec%9e%91%ea%b0%80%ec%99%80%ec%9d%98-%eb%a7%8c%eb%82%a8-%ec%97%ac%ed%96%89%eb%ac%b8%ed%95%99/
LOCATION:이화여자대학교\, 이화여대길 52\, 서울\, 서대문구\, 03760\, Korea\, Republic of
CATEGORIES:작가와의 만남,프랑코포니
ATTACH;FMTTYPE=image/jpeg:https://kr.ambafrance-culture.org/wp-content/uploads/2026/03/Sylvain_2.jpg
GEO:37.561978;126.94678
X-APPLE-STRUCTURED-LOCATION;VALUE=URI;X-ADDRESS=이화여자대학교 이화여대길 52 서울 서대문구 03760 Korea Republic of;X-APPLE-RADIUS=500;X-TITLE=이화여대길 52:geo:126.94678,37.561978
END:VEVENT
END:VCALENDAR