BEGIN:VCALENDAR
VERSION:2.0
PRODID:-//France en Corée - Culture - ECPv6.15.15//NONSGML v1.0//EN
CALSCALE:GREGORIAN
METHOD:PUBLISH
X-ORIGINAL-URL:https://kr.ambafrance-culture.org
X-WR-CALDESC:Évènements pour France en Corée - Culture
REFRESH-INTERVAL;VALUE=DURATION:PT1H
X-Robots-Tag:noindex
X-PUBLISHED-TTL:PT1H
BEGIN:VTIMEZONE
TZID:Asia/Seoul
BEGIN:STANDARD
TZOFFSETFROM:+0900
TZOFFSETTO:+0900
TZNAME:KST
DTSTART:20250101T000000
END:STANDARD
END:VTIMEZONE
BEGIN:VEVENT
DTSTART;TZID=Asia/Seoul:20260318T143000
DTEND;TZID=Asia/Seoul:20260318T160000
DTSTAMP:20260422T035224
CREATED:20260306T081302Z
LAST-MODIFIED:20260306T081302Z
UID:10000036-1773844200-1773849600@kr.ambafrance-culture.org
SUMMARY:Cérémonie d'ouverture de la Maison du Petit Prince à Gamcheon
DESCRIPTION:Le voyage du Petit Prince\, débuté en France il y a 80 ans par la publication du récit d’Antoine de Saint-Exupéry\, continue au village culturel de Gamcheon en célébration des 140 ans de l’établissement des relations diplomatiques entre la France et la République de Corée. Premier espace culturel permanent en Corée inspiré du Petit Prince\, La Maison du Petit Prince\, soutenue par la Fondation Antoine de Saint-Exupéry pour la jeunesse\, ouvre officiellement ses portes le mercredi 18 mars après-midi. \nProgramme : \n\n14h30-15h00 : Cérémonie d’ouverture officielle\n15h00-16h00 : Ouverture officielle au public et visite guidée de La Maison du Petit Prince
URL:https://kr.ambafrance-culture.org/evenement/ceremonie-douverture-de-la-maison-du-petit-prince-a-gamcheon/
LOCATION:La Maison du Petit Prince\, 200 Gamnae 1-ro\, Busan\, Saha-gu\, 49457\, Korea\, Republic of
CATEGORIES:Expositions
ATTACH;FMTTYPE=image/jpeg:https://kr.ambafrance-culture.org/wp-content/uploads/2026/03/PetitPrince032026.jpg
GEO:35.096361;129.009417
X-APPLE-STRUCTURED-LOCATION;VALUE=URI;X-ADDRESS=La Maison du Petit Prince 200 Gamnae 1-ro Busan Saha-gu 49457 Korea Republic of;X-APPLE-RADIUS=500;X-TITLE=200 Gamnae 1-ro:geo:129.009417,35.096361
END:VEVENT
END:VCALENDAR