BEGIN:VCALENDAR
VERSION:2.0
PRODID:-//France en Corée - Culture - ECPv6.15.15//NONSGML v1.0//EN
CALSCALE:GREGORIAN
METHOD:PUBLISH
X-WR-CALNAME:France en Corée - Culture
X-ORIGINAL-URL:https://kr.ambafrance-culture.org
X-WR-CALDESC:Évènements pour France en Corée - Culture
REFRESH-INTERVAL;VALUE=DURATION:PT1H
X-Robots-Tag:noindex
X-PUBLISHED-TTL:PT1H
BEGIN:VTIMEZONE
TZID:Asia/Seoul
BEGIN:STANDARD
TZOFFSETFROM:+0900
TZOFFSETTO:+0900
TZNAME:KST
DTSTART:20250101T000000
END:STANDARD
END:VTIMEZONE
BEGIN:VEVENT
DTSTART;TZID=Asia/Seoul:20260318T190000
DTEND;TZID=Asia/Seoul:20260318T203000
DTSTAMP:20260422T035424
CREATED:20260304T112830Z
LAST-MODIFIED:20260311T075334Z
UID:10000041-1773860400-1773865800@kr.ambafrance-culture.org
SUMMARY:Dialogue littéraire entre Sylvain Tesson et Yeoul Jung : « Pourquoi ressentons-nous à nouveau le besoin de revenir à la nature ? »
DESCRIPTION:Dans le cadre de la 4ᵉ édition du Choix Goncourt de la Corée dont il est le parrain\, l’écrivain et voyageur Sylvain Tesson dialoguera avec Yeoul Jung\, écrivaine voyageuse\, autour de la question « Pourquoi ressentons-nous à nouveau le besoin de revenir à la nature ? ». Cette rencontre se déroulera le mercredi 18 mars de 19h à 20h30 à la Starfield Library et sera suivie d’une séance de dédicaces. \nInterprétation consécutive français-coréen \nCet événement s’inscrit dans la programmation officielle du 140ᵉ anniversaire des relations diplomatiques entre la France et la République de Corée. \n  \nÀ propos de Sylvain Tesson  \nNé à Paris en 1972\, Sylvain Tesson a étudié la géographie. Très tôt\, il s’est consacré aux voyages et aux expéditions en conditions extrêmes\, parcourant le monde à pied et publiant de nombreux ouvrages.  \nIl a reçu le Prix Goncourt de la Nouvelle et le Grand Prix de l’Académie française pour Une vie à coucher dehors (Gallimard\, 2009)\, ainsi que le Prix Médicis Essai pour Dans les forêts de Sibérie (Gallimard\, 2011).  \nVictime d’une grave chute en 2014\, il a relaté sa longue convalescence dans Sur les chemins noirs (Gallimard\, 2016). En 2018\, il publie Un été avec Homère (Édition des Équateurs\, 2018). \nEn 2019\, il reçoit le Prix Renaudot pour La Panthère des neiges (Gallimard\, 2019). Fait exceptionnel dans l’histoire du prix Renaudot\, ce livre\, absent de la sélection initiale\, a été ajouté à la dernière minute avant de remporter le prix. La Panthère des neiges fut également l’un des livres francophones les plus vendus en France en 2019\, devant notamment le lauréat du Goncourt de la même année et Sérotonine de Michel Houellebecq.  \nEn 2025\, il a publié son dernier ouvrage\, Les Piliers de la mer (Albin Michel). Lors de sa sortie\, le livre a été tiré à 150 000 exemplaires dès la première édition\, confirmant une nouvelle fois son statut d’auteur à succès. Cet ouvrage est un essai philosophique consacré à l’exploration de la nature.
URL:https://kr.ambafrance-culture.org/evenement/dialogue-litteraire-entre-sylvain-tesson-et-yeoul-jung-pourquoi-ressentons-nous-a-nouveau-le-besoin-de-revenir-a-la-nature/
LOCATION:Starfield Library\, 513\, Yeongdong-daero\, Séoul\, Gangnam-gu\, 06164\, Korea\, Republic of
CATEGORIES:Rencontre littéraire
ATTACH;FMTTYPE=image/jpeg:https://kr.ambafrance-culture.org/wp-content/uploads/2026/03/Sylvain2026-1.jpg
GEO:37.512699;127.058798
X-APPLE-STRUCTURED-LOCATION;VALUE=URI;X-ADDRESS=Starfield Library 513 Yeongdong-daero Séoul Gangnam-gu 06164 Korea Republic of;X-APPLE-RADIUS=500;X-TITLE=513\, Yeongdong-daero:geo:127.058798,37.512699
END:VEVENT
END:VCALENDAR