BEGIN:VCALENDAR
VERSION:2.0
PRODID:-//France en Corée - Culture - ECPv6.15.15//NONSGML v1.0//EN
CALSCALE:GREGORIAN
METHOD:PUBLISH
X-ORIGINAL-URL:https://kr.ambafrance-culture.org
X-WR-CALDESC:Évènements pour France en Corée - Culture
REFRESH-INTERVAL;VALUE=DURATION:PT1H
X-Robots-Tag:noindex
X-PUBLISHED-TTL:PT1H
BEGIN:VTIMEZONE
TZID:Asia/Seoul
BEGIN:STANDARD
TZOFFSETFROM:+0900
TZOFFSETTO:+0900
TZNAME:KST
DTSTART:20250101T000000
END:STANDARD
END:VTIMEZONE
BEGIN:VEVENT
DTSTART;VALUE=DATE:20260327
DTEND;VALUE=DATE:20260406
DTSTAMP:20260420T030358
CREATED:20260304T121716Z
LAST-MODIFIED:20260304T121716Z
UID:10000101-1774569600-1775433599@kr.ambafrance-culture.org
SUMMARY:Festival | Le Quatuor Modigliani au Tongyeong International Music Festival 2026
DESCRIPTION:Le Quatuor Modigliani\, l’un des ensembles français les plus renommés sur la scène internationale\, se produira au Tongyeong International Music Festival 2026. \nPlacée sous la direction artistique de la compositrice Unsuk Chin\, l’édition 2026 du festival\, intitulée Face the Depth\, se tiendra du 27 mars au 5 avril. \nFondé en 2003 et salué par la presse internationale comme l’un des plus grands quatuors à cordes actuels\, le Modigliani Quartet présentera deux concerts lors du festival.
URL:https://kr.ambafrance-culture.org/evenement/festival-le-quatuor-modigliani-au-tongyeong-international-music-festival-2026/
LOCATION:Tongyeong International Music Festival\, 38 Keunbalgae 1-gil\, Tongyeong-si\, Gyeongsangnam-do\, Korea\, Republic of
CATEGORIES:Concert,Musique
ATTACH;FMTTYPE=image/jpeg:https://kr.ambafrance-culture.org/wp-content/uploads/2026/03/Modigliani2026.jpg
GEO:34.82622;128.440175
X-APPLE-STRUCTURED-LOCATION;VALUE=URI;X-ADDRESS=Tongyeong International Music Festival 38 Keunbalgae 1-gil Tongyeong-si Gyeongsangnam-do Korea Republic of;X-APPLE-RADIUS=500;X-TITLE=38 Keunbalgae 1-gil:geo:128.440175,34.82622
END:VEVENT
END:VCALENDAR