BEGIN:VCALENDAR
VERSION:2.0
PRODID:-//France en Corée - Culture - ECPv6.15.15//NONSGML v1.0//EN
CALSCALE:GREGORIAN
METHOD:PUBLISH
X-WR-CALNAME:France en Corée - Culture
X-ORIGINAL-URL:https://kr.ambafrance-culture.org
X-WR-CALDESC:Évènements pour France en Corée - Culture
REFRESH-INTERVAL;VALUE=DURATION:PT1H
X-Robots-Tag:noindex
X-PUBLISHED-TTL:PT1H
BEGIN:VTIMEZONE
TZID:Asia/Seoul
BEGIN:STANDARD
TZOFFSETFROM:+0900
TZOFFSETTO:+0900
TZNAME:KST
DTSTART:20250101T000000
END:STANDARD
END:VTIMEZONE
BEGIN:VEVENT
DTSTART;TZID=Asia/Seoul:20260324T093000
DTEND;TZID=Asia/Seoul:20260324T180000
DTSTAMP:20260420T050808
CREATED:20260304T111309Z
LAST-MODIFIED:20260304T111741Z
UID:10000107-1774344600-1774375200@kr.ambafrance-culture.org
SUMMARY:Journée UE–Corée de la Recherche et de l’Innovation 2026
DESCRIPTION:La 10ᵉ édition de la Journée UE–Corée de la Recherche et de l’Innovation se tiendra le 24 mars 2026 en Corée. \nCet événement réunira des acteurs clés européens et coréens des domaines de la recherche et de l’innovation\, afin de favoriser les échanges\, les partenariats et les opportunités de coopération\, notamment dans le cadre du programme européen Horizon Europe. \nLes participants sont invités à confirmer leur participation avant le 13/mars 2026 via ce lien : \nhttps://form.naver.com/response/Pi1zsUkD9lGYKCbrVJqpWA \nProgramme : [초청] 2026 한-EU 연구혁신의 날 \nPlus d’informations : \nJuyoung Kim : juyoung.kim@eees.europe.eu \nHyungjoo Kim : joo6808@nrf.re.kr \nNayeon Chung : info@wableconnect.com
URL:https://kr.ambafrance-culture.org/evenement/journee-ue-coree-de-la-recherche-et-de-linnovation-2026/
LOCATION:Four Seasons Hotel Seoul\, 97 Saemunan-ro\, Séoul\, Jongno\, 03183\, Korea\, Republic of
CATEGORIES:Forum scientifique
ATTACH;FMTTYPE=image/jpeg:https://kr.ambafrance-culture.org/wp-content/uploads/2026/03/Innovation2026-1.jpg
ORGANIZER;CN="National Research Foundation":MAILTO:info@wableconnect.com
GEO:37.570919;126.975474
X-APPLE-STRUCTURED-LOCATION;VALUE=URI;X-ADDRESS=Four Seasons Hotel Seoul 97 Saemunan-ro Séoul Jongno 03183 Korea Republic of;X-APPLE-RADIUS=500;X-TITLE=97 Saemunan-ro:geo:126.975474,37.570919
END:VEVENT
BEGIN:VEVENT
DTSTART;TZID=Asia/Seoul:20260313T170000
DTEND;TZID=Asia/Seoul:20260413T070000
DTSTAMP:20260420T050808
CREATED:20260317T004805Z
LAST-MODIFIED:20260317T004805Z
UID:10000170-1773421200-1776063600@kr.ambafrance-culture.org
SUMMARY:Appel à projet du PHC STAR 2027
DESCRIPTION:Le secteur scientifique et universitaire de l’ambassade de France en République de Corée a le plaisir d’annoncer l’ouverture de l’appel à projet du PHC STAR 2027.  \nSTAR est le Partenariat Hubert Curien (PHC) franco-coréen. En France\, il est coordonné et financé par le ministère de l’Europe et des Affaires étrangères (MEAE) et le ministère de l’Enseignement supérieur et de la Recherche (MESR). En République de Corée\, il est mis en œuvre par la Fondation nationale pour la recherche de Corée (National Research Foundation of Korea – NRF) pour le compte du ministère des Sciences et des Technologies de l’information et de la communication (Ministry of Science and ICT – MSIT).  \nL’objectif principal de ce programme est de renforcer les échanges scientifiques et technologiques d’excellence entre les laboratoires de recherche des deux pays\, en soutenant de nouvelles coopérations et en encourageant la participation de jeunes chercheurs et doctorants\, notamment par le financement des mobilités des chercheurs.  \n🌐 Domaines concernés : tous les domaines scientifiques\, y compris les SHS (à travers le prisme des sciences et technologies).  \n🇪🇺 Recherche européenne :  la perspective de futurs projets européens\, en particulier de type Horizon Europe\, est un atout.  \n💰Financement : jusqu’à 19 000 euros sur deux ans pour soutenir la mobilité des chercheurs venant de France et l’équivalent pour ceux venant de République de Corée.  \n📆 Date limite de candidature : 13 avril 2026  \nℹ️ Plus d’informations et candidature : https://www.campusfrance.org/fr/star  \n 
URL:https://kr.ambafrance-culture.org/evenement/appel-a-projet-du-phc-star-2027/
CATEGORIES:Appel à candidatures
ATTACH;FMTTYPE=image/jpeg:https://kr.ambafrance-culture.org/wp-content/uploads/2026/03/PHCStar2027.jpg
ORGANIZER;CN="National Research Foundation":MAILTO:info@wableconnect.com
END:VEVENT
END:VCALENDAR